BEGIN:VCALENDAR
VERSION:2.0
PRODID:-//NARMER LANGUAGE SCHOOL - ECPv5.1.5//NONSGML v1.0//EN
CALSCALE:GREGORIAN
METHOD:PUBLISH
X-WR-CALNAME:NARMER LANGUAGE SCHOOL
X-ORIGINAL-URL:https://nls-eg.com
X-WR-CALDESC:Events for NARMER LANGUAGE SCHOOL
BEGIN:VTIMEZONE
TZID:UTC
BEGIN:STANDARD
TZOFFSETFROM:+0000
TZOFFSETTO:+0000
TZNAME:UTC
DTSTART:20210101T000000
END:STANDARD
END:VTIMEZONE
BEGIN:VEVENT
DTSTART;VALUE=DATE:20210305
DTEND;VALUE=DATE:20210306
DTSTAMP:20260421T084402
CREATED:20200726T161950Z
LAST-MODIFIED:20200726T161950Z
UID:2160-1614902400-1614902400@nls-eg.com
SUMMARY:Results released for International GCSE Edexcel qualifications for Jan 2021 series.
DESCRIPTION:
URL:https://nls-eg.com/event/results-released-for-international-gcse-edexcel-qualifications-for-jan-2021-series/
CATEGORIES:British School
END:VEVENT
END:VCALENDAR