BEGIN:VCALENDAR
VERSION:2.0
PRODID:-//NARMER LANGUAGE SCHOOL - ECPv5.1.5//NONSGML v1.0//EN
CALSCALE:GREGORIAN
METHOD:PUBLISH
X-WR-CALNAME:NARMER LANGUAGE SCHOOL
X-ORIGINAL-URL:https://nls-eg.com
X-WR-CALDESC:Events for NARMER LANGUAGE SCHOOL
BEGIN:VTIMEZONE
TZID:UTC
BEGIN:STANDARD
TZOFFSETFROM:+0000
TZOFFSETTO:+0000
TZNAME:UTC
DTSTART:20200101T000000
END:STANDARD
END:VTIMEZONE
BEGIN:VEVENT
DTSTART;VALUE=DATE:20200813
DTEND;VALUE=DATE:20200814
DTSTAMP:20260420T085232
CREATED:20200726T155420Z
LAST-MODIFIED:20200726T161420Z
UID:2129-1597276800-1597363199@nls-eg.com
SUMMARY:Results released for IAL Edexcel qualifications for June 2020 series.
DESCRIPTION:
URL:https://nls-eg.com/event/results-released-for-ial-edexcel-qualifications-for-june-2020-series/
CATEGORIES:British School
END:VEVENT
END:VCALENDAR