BEGIN:VCALENDAR
VERSION:2.0
PRODID:-//NARMER LANGUAGE SCHOOL - ECPv5.1.5//NONSGML v1.0//EN
CALSCALE:GREGORIAN
METHOD:PUBLISH
X-WR-CALNAME:NARMER LANGUAGE SCHOOL
X-ORIGINAL-URL:https://nls-eg.com
X-WR-CALDESC:Events for NARMER LANGUAGE SCHOOL
BEGIN:VTIMEZONE
TZID:UTC
BEGIN:STANDARD
TZOFFSETFROM:+0000
TZOFFSETTO:+0000
TZNAME:UTC
DTSTART:20210101T000000
END:STANDARD
END:VTIMEZONE
BEGIN:VEVENT
DTSTART;VALUE=DATE:20210206
DTEND;VALUE=DATE:20210207
DTSTAMP:20260421T092134
CREATED:20200726T153630Z
LAST-MODIFIED:20200726T153630Z
UID:2093-1612569600-1612569600@nls-eg.com
SUMMARY:Mid-Year Vacation
DESCRIPTION:
URL:https://nls-eg.com/event/mid-year-vacation/
CATEGORIES:National School
END:VEVENT
END:VCALENDAR