BEGIN:VCALENDAR
VERSION:2.0
PRODID:-//NARMER LANGUAGE SCHOOL - ECPv5.1.5//NONSGML v1.0//EN
CALSCALE:GREGORIAN
METHOD:PUBLISH
X-WR-CALNAME:NARMER LANGUAGE SCHOOL
X-ORIGINAL-URL:https://nls-eg.com
X-WR-CALDESC:Events for NARMER LANGUAGE SCHOOL
BEGIN:VTIMEZONE
TZID:UTC
BEGIN:STANDARD
TZOFFSETFROM:+0000
TZOFFSETTO:+0000
TZNAME:UTC
DTSTART:20210101T000000
END:STANDARD
END:VTIMEZONE
BEGIN:VEVENT
DTSTART;TZID=UTC:20210505T080000
DTEND;TZID=UTC:20210625T170000
DTSTAMP:20260420T082515
CREATED:20200726T162039Z
LAST-MODIFIED:20200726T162039Z
UID:2162-1620201600-1624640400@nls-eg.com
SUMMARY:IAL Edexcel final exams June 2021 series.
DESCRIPTION:
URL:https://nls-eg.com/event/ial-edexcel-final-exams-june-2021-series/
CATEGORIES:British School
END:VEVENT
END:VCALENDAR