BEGIN:VCALENDAR
VERSION:2.0
PRODID:-//NARMER LANGUAGE SCHOOL - ECPv5.1.5//NONSGML v1.0//EN
CALSCALE:GREGORIAN
METHOD:PUBLISH
X-WR-CALNAME:NARMER LANGUAGE SCHOOL
X-ORIGINAL-URL:https://nls-eg.com
X-WR-CALDESC:Events for NARMER LANGUAGE SCHOOL
BEGIN:VTIMEZONE
TZID:UTC
BEGIN:STANDARD
TZOFFSETFROM:+0000
TZOFFSETTO:+0000
TZNAME:UTC
DTSTART:20200101T000000
END:STANDARD
END:VTIMEZONE
BEGIN:VEVENT
DTSTART;TZID=UTC:20201102T000000
DTEND;TZID=UTC:20201109T000000
DTSTAMP:20260420T123230
CREATED:20200726T161050Z
LAST-MODIFIED:20200726T161050Z
UID:2148-1604275200-1604880000@nls-eg.com
SUMMARY:AQA Nov 2020 final exams.
DESCRIPTION:
URL:https://nls-eg.com/event/aqa-nov-2020-final-exams/
CATEGORIES:British School
END:VEVENT
END:VCALENDAR